BEGIN:VCALENDAR
VERSION:2.0
PRODID:-//New Berean Baptist Church - ECPv6.15.20//NONSGML v1.0//EN
CALSCALE:GREGORIAN
METHOD:PUBLISH
X-WR-CALNAME:New Berean Baptist Church
X-ORIGINAL-URL:https://www.nbbcministry.com
X-WR-CALDESC:Events for New Berean Baptist Church
REFRESH-INTERVAL;VALUE=DURATION:PT1H
X-Robots-Tag:noindex
X-PUBLISHED-TTL:PT1H
BEGIN:VTIMEZONE
TZID:America/New_York
BEGIN:DAYLIGHT
TZOFFSETFROM:-0500
TZOFFSETTO:-0400
TZNAME:EDT
DTSTART:20250309T070000
END:DAYLIGHT
BEGIN:STANDARD
TZOFFSETFROM:-0400
TZOFFSETTO:-0500
TZNAME:EST
DTSTART:20251102T060000
END:STANDARD
BEGIN:DAYLIGHT
TZOFFSETFROM:-0500
TZOFFSETTO:-0400
TZNAME:EDT
DTSTART:20260308T070000
END:DAYLIGHT
BEGIN:STANDARD
TZOFFSETFROM:-0400
TZOFFSETTO:-0500
TZNAME:EST
DTSTART:20261101T060000
END:STANDARD
BEGIN:DAYLIGHT
TZOFFSETFROM:-0500
TZOFFSETTO:-0400
TZNAME:EDT
DTSTART:20270314T070000
END:DAYLIGHT
BEGIN:STANDARD
TZOFFSETFROM:-0400
TZOFFSETTO:-0500
TZNAME:EST
DTSTART:20271107T060000
END:STANDARD
END:VTIMEZONE
BEGIN:VEVENT
DTSTART;TZID=America/New_York:20260506T190000
DTEND;TZID=America/New_York:20260506T200000
DTSTAMP:20260423T210938
CREATED:20260422T191110Z
LAST-MODIFIED:20260422T191110Z
UID:20510-1778094000-1778097600@www.nbbcministry.com
SUMMARY:Discipleship Training
DESCRIPTION:
URL:https://www.nbbcministry.com/events/discipleship-training/
CATEGORIES:Church,Public
END:VEVENT
BEGIN:VEVENT
DTSTART;TZID=America/New_York:20260509T120000
DTEND;TZID=America/New_York:20260509T140000
DTSTAMP:20260423T210938
CREATED:20260217T202730Z
LAST-MODIFIED:20260416T214740Z
UID:20017-1778328000-1778335200@www.nbbcministry.com
SUMMARY:Celebration of Mothers
DESCRIPTION:
URL:https://www.nbbcministry.com/events/celebration-of-mothers/
CATEGORIES:Church
END:VEVENT
END:VCALENDAR