BEGIN:VCALENDAR
VERSION:2.0
PRODID:-//New Berean Baptist Church - ECPv6.15.20//NONSGML v1.0//EN
CALSCALE:GREGORIAN
METHOD:PUBLISH
X-WR-CALNAME:New Berean Baptist Church
X-ORIGINAL-URL:https://www.nbbcministry.com
X-WR-CALDESC:Events for New Berean Baptist Church
REFRESH-INTERVAL;VALUE=DURATION:PT1H
X-Robots-Tag:noindex
X-PUBLISHED-TTL:PT1H
BEGIN:VTIMEZONE
TZID:America/New_York
BEGIN:DAYLIGHT
TZOFFSETFROM:-0500
TZOFFSETTO:-0400
TZNAME:EDT
DTSTART:20240310T070000
END:DAYLIGHT
BEGIN:STANDARD
TZOFFSETFROM:-0400
TZOFFSETTO:-0500
TZNAME:EST
DTSTART:20241103T060000
END:STANDARD
BEGIN:DAYLIGHT
TZOFFSETFROM:-0500
TZOFFSETTO:-0400
TZNAME:EDT
DTSTART:20250309T070000
END:DAYLIGHT
BEGIN:STANDARD
TZOFFSETFROM:-0400
TZOFFSETTO:-0500
TZNAME:EST
DTSTART:20251102T060000
END:STANDARD
BEGIN:DAYLIGHT
TZOFFSETFROM:-0500
TZOFFSETTO:-0400
TZNAME:EDT
DTSTART:20260308T070000
END:DAYLIGHT
BEGIN:STANDARD
TZOFFSETFROM:-0400
TZOFFSETTO:-0500
TZNAME:EST
DTSTART:20261101T060000
END:STANDARD
END:VTIMEZONE
BEGIN:VEVENT
DTSTART;TZID=America/New_York:20250821T190000
DTEND;TZID=America/New_York:20250821T203000
DTSTAMP:20260423T210959
CREATED:20240324T220816Z
LAST-MODIFIED:20250811T233302Z
UID:14506-1755802800-1755808200@www.nbbcministry.com
SUMMARY:Revival at Macedonia Baptist Church
DESCRIPTION:Macedonia Baptist Church \nIs hosting Revival and the New Berean \nBaptist Church family is invited. You are too
URL:https://www.nbbcministry.com/events/revival-at-macedonia/
LOCATION:Macedonia Baptist Church\, 8300 Crittenden Rd\, Suffolk
CATEGORIES:Church,Public
END:VEVENT
BEGIN:VEVENT
DTSTART;TZID=America/New_York:20250809T090000
DTEND;TZID=America/New_York:20250809T090000
DTSTAMP:20260423T210959
CREATED:20250503T163153Z
LAST-MODIFIED:20250503T175303Z
UID:18215-1754730000-1754730000@www.nbbcministry.com
SUMMARY:Leadership Training III
DESCRIPTION:
URL:https://www.nbbcministry.com/events/leadership-training-iii/
CATEGORIES:Church
END:VEVENT
BEGIN:VEVENT
DTSTART;TZID=America/New_York:20250713T113000
DTEND;TZID=America/New_York:20250713T123000
DTSTAMP:20260423T210959
CREATED:20250625T020035Z
LAST-MODIFIED:20250625T020035Z
UID:18586-1752406200-1752409800@www.nbbcministry.com
SUMMARY:Youth Recognition Service
DESCRIPTION:
URL:https://www.nbbcministry.com/events/youth-recognition-service/
CATEGORIES:Church,Public
END:VEVENT
BEGIN:VEVENT
DTSTART;TZID=America/New_York:20250621T120000
DTEND;TZID=America/New_York:20250621T160000
DTSTAMP:20260423T210959
CREATED:20250513T211253Z
LAST-MODIFIED:20250617T113836Z
UID:18280-1750507200-1750521600@www.nbbcministry.com
SUMMARY:Pastor Anniversary Cookout
DESCRIPTION:Join us as we celebrate our\nPastor’s 2nd Anniversary Cookout\n \nOn the grounds of New Berean Baptist Church
URL:https://www.nbbcministry.com/events/pastor-anniversary-cookout/
CATEGORIES:Church
END:VEVENT
BEGIN:VEVENT
DTSTART;TZID=America/New_York:20250518T123000
DTEND;TZID=America/New_York:20250518T133000
DTSTAMP:20260423T210959
CREATED:20250427T195206Z
LAST-MODIFIED:20250504T111759Z
UID:18107-1747571400-1747575000@www.nbbcministry.com
SUMMARY:Church Quarterly Business Mtg
DESCRIPTION:All “active members” are asked to be a part of the upcoming Quarterly Business Meeting following the morning service. This meeting is to bring you in tuned to the business side of The BereanWay and helping you know and understand how important you are to keeping us on course with God’s plan for New Berean. Please consult your ministry leaders if you have any special issue you’d like to be addressed (if any). \nVoting can ONLY be done by “Active Members” as defined by the Church Constitution
URL:https://www.nbbcministry.com/events/nbbc-2nd-quarter-business-mtg/
CATEGORIES:Church
END:VEVENT
BEGIN:VEVENT
DTSTART;TZID=America/New_York:20250503T083000
DTEND;TZID=America/New_York:20250503T120000
DTSTAMP:20260423T210959
CREATED:20250311T181312Z
LAST-MODIFIED:20250311T181312Z
UID:17706-1746261000-1746273600@www.nbbcministry.com
SUMMARY:Leadership Training II
DESCRIPTION:
URL:https://www.nbbcministry.com/events/leadership-training-ii/
CATEGORIES:Church
END:VEVENT
BEGIN:VEVENT
DTSTART;TZID=America/New_York:20250427T113000
DTEND;TZID=America/New_York:20250427T150000
DTSTAMP:20260423T210959
CREATED:20250224T192808Z
LAST-MODIFIED:20250224T192808Z
UID:17516-1745753400-1745766000@www.nbbcministry.com
SUMMARY:Baby Shower
DESCRIPTION:After the morning worship service
URL:https://www.nbbcministry.com/events/baby-shower-2/
CATEGORIES:Church
END:VEVENT
END:VCALENDAR